BEGIN:VCALENDAR
VERSION:2.0
PRODID:-//Ludgvan Parish Council//Meeting Calendar//EN
CALSCALE:GREGORIAN
METHOD:PUBLISH
BEGIN:VEVENT
UID:71236-20260408@ludgvan-pc.gov.uk
DTSTAMP:20260424T081824Z
DTSTART;VALUE=DATE:20260408
DTEND;VALUE=DATE:20260409
SUMMARY:April 8th Council Meeting
DESCRIPTION:Full Council Meeting\nView details: https://ludgvan-pc.gov.uk/meetings/april-8th-council-meeting/
URL:https://ludgvan-pc.gov.uk/meetings/april-8th-council-meeting/
END:VEVENT
END:VCALENDAR
