BEGIN:VCALENDAR
VERSION:2.0
PRODID:-//Ludgvan Parish Council//Meeting Calendar//EN
CALSCALE:GREGORIAN
METHOD:PUBLISH
BEGIN:VEVENT
UID:71233-20260311@ludgvan-pc.gov.uk
DTSTAMP:20260424T063459Z
DTSTART;VALUE=DATE:20260311
DTEND;VALUE=DATE:20260312
SUMMARY:March 11th 2026 Parish Council Meeting
DESCRIPTION:Full Council Meeting\nView details: https://ludgvan-pc.gov.uk/meetings/march11th2026pcm/
URL:https://ludgvan-pc.gov.uk/meetings/march11th2026pcm/
END:VEVENT
END:VCALENDAR
