BEGIN:VCALENDAR
VERSION:2.0
PRODID:-//Ludgvan Parish Council//Meeting Calendar//EN
CALSCALE:GREGORIAN
METHOD:PUBLISH
BEGIN:VEVENT
UID:71225-20260211@ludgvan-pc.gov.uk
DTSTAMP:20260424T043908Z
DTSTART;VALUE=DATE:20260211
DTEND;VALUE=DATE:20260212
SUMMARY:Council Meeting 11th February
DESCRIPTION:Full Council Meeting\nView details: https://ludgvan-pc.gov.uk/meetings/council-meeting-11th-february/
URL:https://ludgvan-pc.gov.uk/meetings/council-meeting-11th-february/
END:VEVENT
END:VCALENDAR
