BEGIN:VCALENDAR
VERSION:2.0
PRODID:-//Ludgvan Parish Council//Meeting Calendar//EN
CALSCALE:GREGORIAN
METHOD:PUBLISH
BEGIN:VEVENT
UID:71207-20260114@ludgvan-pc.gov.uk
DTSTAMP:20260424T023850Z
DTSTART;VALUE=DATE:20260114
DTEND;VALUE=DATE:20260115
SUMMARY:Council Meeting &#8211\\; 14th January 2026
DESCRIPTION:Full Council Meeting\nView details: https://ludgvan-pc.gov.uk/meetings/meeting-name-here-3/
URL:https://ludgvan-pc.gov.uk/meetings/meeting-name-here-3/
END:VEVENT
END:VCALENDAR
