BEGIN:VCALENDAR
VERSION:2.0
PRODID:-//Ludgvan Parish Council//Meeting Calendar//EN
CALSCALE:GREGORIAN
METHOD:PUBLISH
BEGIN:VEVENT
UID:71199-20251210@ludgvan-pc.gov.uk
DTSTAMP:20260424T004011Z
DTSTART;VALUE=DATE:20251210
DTEND;VALUE=DATE:20251211
SUMMARY:Council Meeting &#8211\\; 10th December 2025
DESCRIPTION:Full Council Meeting\nView details: https://ludgvan-pc.gov.uk/meetings/council-meeting-10th-december-2025/
URL:https://ludgvan-pc.gov.uk/meetings/council-meeting-10th-december-2025/
END:VEVENT
END:VCALENDAR
