BEGIN:VCALENDAR
VERSION:2.0
PRODID:-//Ludgvan Parish Council//Meeting Calendar//EN
CALSCALE:GREGORIAN
METHOD:PUBLISH
BEGIN:VEVENT
UID:71195-20251112@ludgvan-pc.gov.uk
DTSTAMP:20260423T224821Z
DTSTART;VALUE=DATE:20251112
DTEND;VALUE=DATE:20251113
SUMMARY:Council Meeting &#8211\\; 12th November 2025
DESCRIPTION:Full Council Meeting\nView details: https://ludgvan-pc.gov.uk/meetings/meeting-name-here-2/
URL:https://ludgvan-pc.gov.uk/meetings/meeting-name-here-2/
END:VEVENT
END:VCALENDAR
