BEGIN:VCALENDAR
VERSION:2.0
PRODID:-//Ludgvan Parish Council//Meeting Calendar//EN
CALSCALE:GREGORIAN
METHOD:PUBLISH
BEGIN:VEVENT
UID:71110-20250716@ludgvan-pc.gov.uk
DTSTAMP:20260423T151234Z
DTSTART;VALUE=DATE:20250716
DTEND;VALUE=DATE:20250717
SUMMARY:Council meeting &#8211\\; 16 July 2025
DESCRIPTION:Full Council Meeting\nView details: https://ludgvan-pc.gov.uk/meetings/council-meeting-16-july-2025/
URL:https://ludgvan-pc.gov.uk/meetings/council-meeting-16-july-2025/
END:VEVENT
END:VCALENDAR
