BEGIN:VCALENDAR
VERSION:2.0
PRODID:-//Ludgvan Parish Council//Meeting Calendar//EN
CALSCALE:GREGORIAN
METHOD:PUBLISH
BEGIN:VEVENT
UID:71075-20250910@ludgvan-pc.gov.uk
DTSTAMP:20260423T184803Z
DTSTART;VALUE=DATE:20250910
DTEND;VALUE=DATE:20250911
SUMMARY:Council meeting &#8211\\; 10 September 2025
DESCRIPTION:Full Council Meeting\nView details: https://ludgvan-pc.gov.uk/meetings/council-meeting-10-september-2025/
URL:https://ludgvan-pc.gov.uk/meetings/council-meeting-10-september-2025/
END:VEVENT
END:VCALENDAR
