BEGIN:VCALENDAR
VERSION:2.0
PRODID:-//Ludgvan Parish Council//Meeting Calendar//EN
CALSCALE:GREGORIAN
METHOD:PUBLISH
BEGIN:VEVENT
UID:71074-20250811@ludgvan-pc.gov.uk
DTSTAMP:20260423T164956Z
DTSTART;VALUE=DATE:20250811
DTEND;VALUE=DATE:20250812
SUMMARY:Council meeting &#8211\\; 11 August 2025
DESCRIPTION:Full Council Meeting\nView details: https://ludgvan-pc.gov.uk/meetings/council-meeting-13-august-2025-2/
URL:https://ludgvan-pc.gov.uk/meetings/council-meeting-13-august-2025-2/
END:VEVENT
END:VCALENDAR
