BEGIN:VCALENDAR
VERSION:2.0
PRODID:-//Ludgvan Parish Council//Meeting Calendar//EN
CALSCALE:GREGORIAN
METHOD:PUBLISH
BEGIN:VEVENT
UID:71073-20250611@ludgvan-pc.gov.uk
DTSTAMP:20260423T112139Z
DTSTART;VALUE=DATE:20250611
DTEND;VALUE=DATE:20250612
SUMMARY:Council meeting &#8211\\; 11 June 2025
DESCRIPTION:Full Council Meeting\nView details: https://ludgvan-pc.gov.uk/meetings/council-meeting-11-june-2025-2/
URL:https://ludgvan-pc.gov.uk/meetings/council-meeting-11-june-2025-2/
END:VEVENT
END:VCALENDAR
