BEGIN:VCALENDAR
VERSION:2.0
PRODID:-//Ludgvan Parish Council//Meeting Calendar//EN
CALSCALE:GREGORIAN
METHOD:PUBLISH
BEGIN:VEVENT
UID:71068-20250528@ludgvan-pc.gov.uk
DTSTAMP:20260423T094443Z
DTSTART;VALUE=DATE:20250528
DTEND;VALUE=DATE:20250529
SUMMARY:Council meeting &#8211\\; 28 May 2025
DESCRIPTION:Full Council Meeting\nView details: https://ludgvan-pc.gov.uk/meetings/council-meeting-28-may-2025/
URL:https://ludgvan-pc.gov.uk/meetings/council-meeting-28-may-2025/
END:VEVENT
END:VCALENDAR
