BEGIN:VCALENDAR
VERSION:2.0
PRODID:-//Ludgvan Parish Council//Meeting Calendar//EN
CALSCALE:GREGORIAN
METHOD:PUBLISH
BEGIN:VEVENT
UID:71034-20250514@ludgvan-pc.gov.uk
DTSTAMP:20260421T082001Z
DTSTART;VALUE=DATE:20250514
DTEND;VALUE=DATE:20250515
SUMMARY:Annual Council Meeting &#8211\\; 14 May 2025
DESCRIPTION:Full Council Meeting\nView details: https://ludgvan-pc.gov.uk/meetings/annual-council-meeting-14-may-2025/
URL:https://ludgvan-pc.gov.uk/meetings/annual-council-meeting-14-may-2025/
END:VEVENT
END:VCALENDAR
