BEGIN:VCALENDAR
VERSION:2.0
PRODID:-//Ludgvan Parish Council//Meeting Calendar//EN
CALSCALE:GREGORIAN
METHOD:PUBLISH
BEGIN:VEVENT
UID:70982-20250409@ludgvan-pc.gov.uk
DTSTAMP:20260421T062241Z
DTSTART;VALUE=DATE:20250409
DTEND;VALUE=DATE:20250410
SUMMARY:Council meeting &#8211\\; 9 April 2025
DESCRIPTION:Full Council Meeting\nView details: https://ludgvan-pc.gov.uk/meetings/meeting-name-here/
URL:https://ludgvan-pc.gov.uk/meetings/meeting-name-here/
END:VEVENT
END:VCALENDAR
