BEGIN:VCALENDAR
VERSION:2.0
PRODID:-//Ludgvan Parish Council//Meeting Calendar//EN
CALSCALE:GREGORIAN
METHOD:PUBLISH
BEGIN:VEVENT
UID:70871-20210519@ludgvan-pc.gov.uk
DTSTAMP:20260420T112734Z
DTSTART;VALUE=DATE:20210519
DTEND;VALUE=DATE:20210520
SUMMARY:Annual Council Meeting &#8211\\; 19 May 2021
DESCRIPTION:Full Council Meeting\nView details: https://ludgvan-pc.gov.uk/meetings/annual-council-meeting-19-may-2021/
URL:https://ludgvan-pc.gov.uk/meetings/annual-council-meeting-19-may-2021/
END:VEVENT
END:VCALENDAR
