BEGIN:VCALENDAR
VERSION:2.0
PRODID:-//Ludgvan Parish Council//Meeting Calendar//EN
CALSCALE:GREGORIAN
METHOD:PUBLISH
BEGIN:VEVENT
UID:70843-20210101@ludgvan-pc.gov.uk
DTSTAMP:20260420T131904Z
DTSTART;VALUE=DATE:20210101
DTEND;VALUE=DATE:20210102
SUMMARY:Council Meetings &#8211\\; 2021
DESCRIPTION:Full Council Meeting\nView details: https://ludgvan-pc.gov.uk/meetings/council-meetings-2021/
URL:https://ludgvan-pc.gov.uk/meetings/council-meetings-2021/
END:VEVENT
END:VCALENDAR
