BEGIN:VCALENDAR
VERSION:2.0
PRODID:-//Ludgvan Parish Council//Meeting Calendar//EN
CALSCALE:GREGORIAN
METHOD:PUBLISH
BEGIN:VEVENT
UID:70774-20250212@ludgvan-pc.gov.uk
DTSTAMP:20260421T022929Z
DTSTART;VALUE=DATE:20250212
DTEND;VALUE=DATE:20250213
SUMMARY:Council Meeting &#8211\\; 12 February 2025
DESCRIPTION:Full Council Meeting\nView details: https://ludgvan-pc.gov.uk/meetings/council-meeting-12-february-2025/
URL:https://ludgvan-pc.gov.uk/meetings/council-meeting-12-february-2025/
END:VEVENT
END:VCALENDAR
