BEGIN:VCALENDAR
VERSION:2.0
PRODID:-//Ludgvan Parish Council//Meeting Calendar//EN
CALSCALE:GREGORIAN
METHOD:PUBLISH
BEGIN:VEVENT
UID:70771-20250108@ludgvan-pc.gov.uk
DTSTAMP:20260421T002214Z
DTSTART;VALUE=DATE:20250108
DTEND;VALUE=DATE:20250109
SUMMARY:Council Meeting &#8211\\; 8 January 2025
DESCRIPTION:Full Council Meeting\nView details: https://ludgvan-pc.gov.uk/meetings/council-meeting-8-january-2025/
URL:https://ludgvan-pc.gov.uk/meetings/council-meeting-8-january-2025/
END:VEVENT
END:VCALENDAR
