BEGIN:VCALENDAR
VERSION:2.0
PRODID:-//Ludgvan Parish Council//Meeting Calendar//EN
CALSCALE:GREGORIAN
METHOD:PUBLISH
BEGIN:VEVENT
UID:70765-20241113@ludgvan-pc.gov.uk
DTSTAMP:20260420T203650Z
DTSTART;VALUE=DATE:20241113
DTEND;VALUE=DATE:20241114
SUMMARY:Council Meeting &#8211\\; 13 November 2024
DESCRIPTION:Full Council Meeting\nView details: https://ludgvan-pc.gov.uk/meetings/council-meeting-13-november-2024/
URL:https://ludgvan-pc.gov.uk/meetings/council-meeting-13-november-2024/
END:VEVENT
END:VCALENDAR
