BEGIN:VCALENDAR
VERSION:2.0
PRODID:-//Ludgvan Parish Council//Meeting Calendar//EN
CALSCALE:GREGORIAN
METHOD:PUBLISH
BEGIN:VEVENT
UID:70756-20240911@ludgvan-pc.gov.uk
DTSTAMP:20260420T164902Z
DTSTART;VALUE=DATE:20240911
DTEND;VALUE=DATE:20240912
SUMMARY:Council Meeting &#8211\\; 11 September 2024
DESCRIPTION:Full Council Meeting\nView details: https://ludgvan-pc.gov.uk/meetings/council-meeting-11-september-2024/
URL:https://ludgvan-pc.gov.uk/meetings/council-meeting-11-september-2024/
END:VEVENT
END:VCALENDAR
