BEGIN:VCALENDAR
VERSION:2.0
PRODID:-//Ludgvan Parish Council//Meeting Calendar//EN
CALSCALE:GREGORIAN
METHOD:PUBLISH
BEGIN:VEVENT
UID:70753-20240814@ludgvan-pc.gov.uk
DTSTAMP:20260420T144949Z
DTSTART;VALUE=DATE:20240814
DTEND;VALUE=DATE:20240815
SUMMARY:Council Meeting &#8211\\; 14 August 2024
DESCRIPTION:Full Council Meeting\nView details: https://ludgvan-pc.gov.uk/meetings/council-meeting-14-august-2024/
URL:https://ludgvan-pc.gov.uk/meetings/council-meeting-14-august-2024/
END:VEVENT
END:VCALENDAR
