BEGIN:VCALENDAR
VERSION:2.0
PRODID:-//Ludgvan Parish Council//Meeting Calendar//EN
CALSCALE:GREGORIAN
METHOD:PUBLISH
BEGIN:VEVENT
UID:70750-20240710@ludgvan-pc.gov.uk
DTSTAMP:20260420T131356Z
DTSTART;VALUE=DATE:20240710
DTEND;VALUE=DATE:20240711
SUMMARY:Council Meeting &#8211\\; 10 July 2024
DESCRIPTION:Full Council Meeting\nView details: https://ludgvan-pc.gov.uk/meetings/council-meeting-10-july-2024/
URL:https://ludgvan-pc.gov.uk/meetings/council-meeting-10-july-2024/
END:VEVENT
END:VCALENDAR
