BEGIN:VCALENDAR
VERSION:2.0
PRODID:-//Ludgvan Parish Council//Meeting Calendar//EN
CALSCALE:GREGORIAN
METHOD:PUBLISH
BEGIN:VEVENT
UID:70747-20240612@ludgvan-pc.gov.uk
DTSTAMP:20260420T111418Z
DTSTART;VALUE=DATE:20240612
DTEND;VALUE=DATE:20240613
SUMMARY:Council Meeting &#8211\\; 12 June 2024
DESCRIPTION:Full Council Meeting\nView details: https://ludgvan-pc.gov.uk/meetings/council-meeting-12-june-2024/
URL:https://ludgvan-pc.gov.uk/meetings/council-meeting-12-june-2024/
END:VEVENT
END:VCALENDAR
